BEGIN:VCALENDAR
VERSION:2.0
PRODID:-//Arkansas Behavior Support Specialists - ECPv6.15.20//NONSGML v1.0//EN
CALSCALE:GREGORIAN
METHOD:PUBLISH
X-ORIGINAL-URL:https://arbss.org
X-WR-CALDESC:Events for Arkansas Behavior Support Specialists
REFRESH-INTERVAL;VALUE=DURATION:PT1H
X-Robots-Tag:noindex
X-PUBLISHED-TTL:PT1H
BEGIN:VTIMEZONE
TZID:America/Chicago
BEGIN:DAYLIGHT
TZOFFSETFROM:-0600
TZOFFSETTO:-0500
TZNAME:CDT
DTSTART:20250309T080000
END:DAYLIGHT
BEGIN:STANDARD
TZOFFSETFROM:-0500
TZOFFSETTO:-0600
TZNAME:CST
DTSTART:20251102T070000
END:STANDARD
BEGIN:DAYLIGHT
TZOFFSETFROM:-0600
TZOFFSETTO:-0500
TZNAME:CDT
DTSTART:20260308T080000
END:DAYLIGHT
BEGIN:STANDARD
TZOFFSETFROM:-0500
TZOFFSETTO:-0600
TZNAME:CST
DTSTART:20261101T070000
END:STANDARD
BEGIN:DAYLIGHT
TZOFFSETFROM:-0600
TZOFFSETTO:-0500
TZNAME:CDT
DTSTART:20270314T080000
END:DAYLIGHT
BEGIN:STANDARD
TZOFFSETFROM:-0500
TZOFFSETTO:-0600
TZNAME:CST
DTSTART:20271107T070000
END:STANDARD
END:VTIMEZONE
BEGIN:VEVENT
DTSTART;TZID=America/Chicago:20260618T083000
DTEND;TZID=America/Chicago:20260618T113000
DTSTAMP:20260421T021437
CREATED:20260306T142132Z
LAST-MODIFIED:20260306T142132Z
UID:10000318-1781771400-1781782200@arbss.org
SUMMARY:Prevention to Intervention Part 1
DESCRIPTION:This training is an introduction to Antecedent Based Interventions (ABIs).  ABIs are interventions that increase the likelihood of appropriate behaviors and/or decrease the likelihood of problem behaviors by changing events that occur before a behavior. Throughout this course\, you will learn about several different ABIs including Visual Supports\, Priming\, Highly Preferred Materials\, Offering Choices\, Premack Principle\, High Probability Requests and Noncontingent Reinforcement.  Participants will be introduced to each ABI and learn how to implement each one with fidelity.   \n  \nIn order for the training to be held\, there must be at least ten (10) participants registered. The Arkansas Behavior Specialists are committed to making our events accessible to everyone.  If you require accommodations\, please email the BSS trainer as soon as possible.
URL:https://arbss.org/events/prevention-to-intervention-part-1/
LOCATION:Southeast ESC\, 1022 Scogin Drive\, Monticello\, 71655\, United States
CATEGORIES:Antecedent Based Interventions,Tier 1
ATTACH;FMTTYPE=image/png:https://arbss.org/wp-content/uploads/2025/04/Copy-of-Arkansas-Resources-8.png
END:VEVENT
BEGIN:VEVENT
DTSTART;TZID=America/Chicago:20260618T120000
DTEND;TZID=America/Chicago:20260618T153000
DTSTAMP:20260421T021437
CREATED:20260306T142503Z
LAST-MODIFIED:20260306T142503Z
UID:10000319-1781784000-1781796600@arbss.org
SUMMARY:Prevention to Intervention Part 2
DESCRIPTION:Are you ready to elevate your behavior intervention skills? This engaging introductory training is designed to provide you with the tools and strategies necessary to support students who are “at risk” and require targeted interventions. You’ll explore the Student Intervention Matching (SIM) Form\, a powerful tool that connects student behaviors with effective Tier II interventions. \nThroughout this course\, you’ll dive into a range of impactful interventions\, including the School-Home Note\, Check-In Check-Out\, Class Pass\, Positive Peer Reporting\, Behavior Contracts\, Self-Monitoring\, and Small Group Social Emotional Learning. \nBy the end of the training\, you’ll be equipped to complete and score the SIM Form\, select the right interventions for each student’s unique needs\, and implement each strategy with confidence and fidelity to foster meaningful\, positive change. \nIn order for the training to be held\, there must be at least ten (10) participants registered. The Arkansas Behavior Specialists are committed to making our events accessible to everyone.  If you require accommodations\, please email the BSS trainer as soon as possible. 
URL:https://arbss.org/events/prevention-to-intervention-part-2/
LOCATION:Southeast ESC\, 1022 Scogin Drive\, Monticello\, 71655\, United States
CATEGORIES:Targeted Behavior Interventions,Tier 1
ATTACH;FMTTYPE=image/png:https://arbss.org/wp-content/uploads/2025/04/Copy-of-Arkansas-Resources-8.png
END:VEVENT
BEGIN:VEVENT
DTSTART;TZID=America/Chicago:20260727T083000
DTEND;TZID=America/Chicago:20260727T153000
DTSTAMP:20260421T021437
CREATED:20260306T143450Z
LAST-MODIFIED:20260309T152238Z
UID:10000322-1785141000-1785166200@arbss.org
SUMMARY:Ready\, Set\, Success: Managing Behavior in the Classroom
DESCRIPTION:Are you ready to see positive behaviors in your classroom? This training is designed to empower classroom teachers to promote student engagement and appropriate behavior! Participants will learn key components for managing the classroom and the use of proactive strategies\, including classroom structure\, identifying and teaching behavior expectations\, developing and teaching routines and procedures\, and using reinforcement systems. What can teachers do when inappropriate behaviors occur despite having all the proactive strategies in place? This session walks participants through how to respond to these behaviors using informative and corrective consequences. In order for the training to be held\, there must be at least ten (10) participants registered. The Arkansas Behavior Specialists are committed to making our events accessible to everyone. If you require accommodations\, please email the BSS trainer as soon as possible. Please bring an electronic device to use throughout the training.
URL:https://arbss.org/events/ready-set-success-managing-behavior-in-the-classroom-4/
LOCATION:Southeast ESC\, 1022 Scogin Drive\, Monticello\, 71655\, United States
CATEGORIES:Essential Classroom Behavior Management Strategies,Tier 1
ATTACH;FMTTYPE=image/png:https://arbss.org/wp-content/uploads/2025/04/Copy-of-Arkansas-Resources-7.png
END:VEVENT
BEGIN:VEVENT
DTSTART;TZID=America/Chicago:20260729T083000
DTEND;TZID=America/Chicago:20260729T153000
DTSTAMP:20260421T021437
CREATED:20260306T142834Z
LAST-MODIFIED:20260306T142834Z
UID:10000320-1785313800-1785339000@arbss.org
SUMMARY:Ready\, Set\, Success: Managing Behavior in the Classroom
DESCRIPTION:Are you ready to see positive behaviors in your classroom? This training is designed to empower classroom teachers to promote student engagement and appropriate behavior! Participants will learn key components for managing the classroom and the use of proactive strategies\, including classroom structure\, identifying and teaching behavior expectations\, developing and teaching routines and procedures\, and using reinforcement systems. What can teachers do when inappropriate behaviors occur despite having all the proactive strategies in place? This session walks participants through how to respond to these behaviors using informative and corrective consequences.  \nIn order for the training to be held\, there must be at least ten (10) participants registered. The Arkansas Behavior Specialists are committed to making our events accessible to everyone.  If you require accommodations\, please email the BSS trainer as soon as possible. 
URL:https://arbss.org/events/ready-set-success-managing-behavior-in-the-classroom-3/
LOCATION:Southeast ESC\, 1022 Scogin Drive\, Monticello\, 71655\, United States
CATEGORIES:Essential Classroom Behavior Management Strategies
ATTACH;FMTTYPE=image/png:https://arbss.org/wp-content/uploads/2025/04/Copy-of-Arkansas-Resources-7.png
END:VEVENT
END:VCALENDAR